BEGIN:VCALENDAR
VERSION:2.0
PRODID:-//Lydia&#039;s Cafe - ECPv6.15.12.2//NONSGML v1.0//EN
CALSCALE:GREGORIAN
METHOD:PUBLISH
X-WR-CALNAME:Lydia&#039;s Cafe
X-ORIGINAL-URL:https://www.lydias-cafe.com
X-WR-CALDESC:Events for Lydia&#039;s Cafe
REFRESH-INTERVAL;VALUE=DURATION:PT1H
X-Robots-Tag:noindex
X-PUBLISHED-TTL:PT1H
BEGIN:VTIMEZONE
TZID:America/New_York
BEGIN:DAYLIGHT
TZOFFSETFROM:-0500
TZOFFSETTO:-0400
TZNAME:EDT
DTSTART:20230312T070000
END:DAYLIGHT
BEGIN:STANDARD
TZOFFSETFROM:-0400
TZOFFSETTO:-0500
TZNAME:EST
DTSTART:20231105T060000
END:STANDARD
BEGIN:DAYLIGHT
TZOFFSETFROM:-0500
TZOFFSETTO:-0400
TZNAME:EDT
DTSTART:20240310T070000
END:DAYLIGHT
BEGIN:STANDARD
TZOFFSETFROM:-0400
TZOFFSETTO:-0500
TZNAME:EST
DTSTART:20241103T060000
END:STANDARD
BEGIN:DAYLIGHT
TZOFFSETFROM:-0500
TZOFFSETTO:-0400
TZNAME:EDT
DTSTART:20250309T070000
END:DAYLIGHT
BEGIN:STANDARD
TZOFFSETFROM:-0400
TZOFFSETTO:-0500
TZNAME:EST
DTSTART:20251102T060000
END:STANDARD
END:VTIMEZONE
BEGIN:VEVENT
DTSTART;TZID=America/New_York:20240803T190000
DTEND;TZID=America/New_York:20240803T220000
DTSTAMP:20260421T112707
CREATED:20240317T164745Z
LAST-MODIFIED:20240722T203013Z
UID:7698-1722711600-1722722400@www.lydias-cafe.com
SUMMARY:Circular Jazz: The Trio
DESCRIPTION:Bob Meyers – drums \nSteven Frieder – sax \nBryan Copeland – bass \n  \n\nCircular Jazz will be playing music from the Great American Song Book along with compositions by the band members and the music of the late\, great Bert Wilson.\n\nDrummer Bob Meyer has performed and/or recorded with Joe Lovano\, John Abercrombie\, Ed Schuller\, Ken Werner\, Nina Sheldon\, Judi Silvano\, Perry Robinson\, Glenn Moore\, Cameron Brown\, Andy Statman\, Sheila Jordan\, Ray Nance\, Art Davis\, Jaki Byard\, Paul McCanless\, Julian Priester\, Gary Peacock\, Peggy Stern\, Bert Wilson\, Diane Schurr\, Stanley Cowell\, Mal Waldron\, David Friesen\, Jim Pepper\, Red Rodney\, Itzhak Perlman\, Arnie Lawrence\, James Moody\, Kirk Leitsey\, Avishai Cohen\, Wayne Horvitz\, Drew Gress\, Rob Scheps\, Mike Bisio\, Don Friedman\, James Emery\, Tony Malaby\, Essiet Essiet\, Santi Debriano\, Vic Juris\, Harvey Wainapel\, Peter Barshay and Mel Martin\, Eric Person\, Travis Sullivan among many others. \nSteven Frieder \nAn all-around talent with a compelling voice in almost any genre\, saxophonist and multi-wind player Steve Frieder captivates audiences in jazz\, pop\, funk\, rock\, club\, avant-garde\, and free improvisation. Steve has established himself as a versatile\, in-demand musician in New York and around the world. \nIn 2023 Steve began touring with Boy George and Culture Club\, showcasing his talents with dynamic saxophone solos and energetic stage presence. Amongst the ten week 2023 summer tour with Culture Club\, Steve performed at two sold out shows at Hollywood Bowl\, a two week Australia run and a show at the Singapore Formula 1 Grand Prix. \nBryan Copeland \nBorn in Abilene\, TX.\,bassist/composer/ bandleader Bryan Copeland spent the early part of his life growing up in the fertile farm lands of the north Texas panhandle. He lived his more formative years in Dallas and Austin\, TX.\, surrounded by blues\, folk\, and country music. Currently\, he resides in New York\, where he uses his country roots\, along with jazz and classical training\, to influence his unique compositional styling.\nHe has toured and performed with several artist that include Joe Lovano\, Roy Hargrove\, Matt Wilson\, Ingrid Jensen\, Camila Meza\, Tim Warfield\, Marcus Belgrave\, Aaron Parks\, Fabian Almazan\, Jon Cowherd\, Dayna Stephens\, Rudy Royston\, Kenny Wollesen\, Jamire Williams\, Marcus Printup\, Frank Locrasto\, Donald Edwards\, J.J. Johnson\, Adam Nussbaum\, Steve Houghton\, Ernie Watts\, Ashley Arrison (Kelly Clarkson)\, and Toby Goodshank (Moldy Peaches) He has recorded with Jon Brion\, David Binney\, Radney Foster\, Andre Heyword\, and Aben Eubanks (Kelly Clarkson)\nBryan has performed at Montreux Jazz Festival\, Jazz a Juan in Antibes\, Vienne Jazz Festival\, Lion Jazz Festival\, NYC Winter Jazz\nFestival\, Jazz at Lincoln Center. As a student\, he was named outstanding soloist at Addison Jazz Festival
URL:https://www.lydias-cafe.com/event/bob-meyer-trio-2/
END:VEVENT
BEGIN:VEVENT
DTSTART;TZID=America/New_York:20240810T190000
DTEND;TZID=America/New_York:20240810T220000
DTSTAMP:20260421T112707
CREATED:20240317T164921Z
LAST-MODIFIED:20240708T154325Z
UID:7700-1723316400-1723327200@www.lydias-cafe.com
SUMMARY:Jimmy Madison & Friends
DESCRIPTION:Jimmy Madison – drums \nTim Regusis – keys \nTarik Shah – bass \nAwan Rashad – saxophone \nDrummer Jimmy Madison has performed with the greats of Jazz and Funk for over six decades\, from Lionel Hampton\, Roland Kirk\, Chet Baker and Quincy Jones to James Brown\, Maceo Parker and George Benson\, among many others. But this trio format allows he and his compatriots to do what they do best\, improvising on themes both familiar and new. It’s pure Jazz at its best. \nTim Regusis is a Hudson Valley-based pianist who has been active in the jazz scene of the NYC region\, as well as in the fields of R&B\, Latin and various world musics for many years.\nHe has played and/or recorded with Patti Austin\, Ruben Blades\, David Byrne\, Celia Cruz\, Chuck Mangione\, Johnny Pacheco\, Daniel Ponce\, Rick Margitza\, Cindy Blackman\, Jeff Williams\, Akira Ohmori\, Najee\, Donna Summer\, Chaka Khan\, Jonathan Butler\, Ofra Haza and others. \nTarik Shah is an African American Muslim with a career as a professional jazz musician. As the sole student of Slam Stewart\, Shah began playing the upright bass at age 12 and went on to play with Betty Carter\, Ahmad Jamal\, Abbey Lincoln and Art Taylor among others. He is a composer\, a jazz educator\, and lyricist. \nAwan Rashad – In his early years he was a member of the ESYO Wind Ensemble and Jazz Ensemble\, as well as the NYSSMA All-State Jazz Band. More recently he has performed at many well-known jazz clubs in NYC such as Birdland\, Dizzy’s\, Smalls\, Ornithology\, Jazz Forum\, and other smaller venues.
URL:https://www.lydias-cafe.com/event/jimmy-madison-friends-4/
END:VEVENT
BEGIN:VEVENT
DTSTART;TZID=America/New_York:20240817T190000
DTEND;TZID=America/New_York:20240817T220000
DTSTAMP:20260421T112707
CREATED:20240317T165143Z
LAST-MODIFIED:20240812T215001Z
UID:7702-1723921200-1723932000@www.lydias-cafe.com
SUMMARY:Mark Usvolk Quintet
DESCRIPTION:Mark Usvolk – bass/composer/arranger \nRon Horton – trumpet/flugelhorn \nTim Armacost – sax \nPeter Tomlinson – keys \nPeter O’Brien – drums \nBassist/guitarist/composer Mark Usvolk has an unfair advantage. Since he and his wife\, Roni own Lydia’s Cafe\, he gets to play there whenever he wants and can usually entice musicians who play better than he does to play in his band.\nAfter receiving his Bachelor of Music degree (BM) from the University of North Texas many\, many years ago\, Mark went on to make a tolerable living playing guitar and teaching until he came to the realization that his chances of finding a woman who would put up with his BS and his meager income would be greatly improved if he had a real job. In the late 80’s\, Mark moved to Stone Ridge after living in Dallas and Tucson and began designing and building houses. It worked! He met and married Roni and in 2006 they bought the Country Deli from Roni’s mom\, Lydia and thus began the saga of Lydia’s Cafe\, a struggling music venue and gaping money pit\, which brings us to the present situation. \nMark has performed with the Tucson Symphony\, Salsa/Latin\, jazz\, R&B & funk bands during his musical era and currently makes his living as a residential designer. \nMark has assembled a dream team of musicians whose sole purpose in life has been to prepare them to perform Mark’s original compositions and to provide beautiful solos over his weird chord changes. The pieces are representative of a range of styles from jazz to Latin to funk to classical and feature memorable melodies and a somewhat unique harmonic approach. \nDream Team \nSince 1982\, trumpeter Ron Horton has been an integral part of New York’s flourishing jazz scene and he stands out both as an exemplary instrumentalist and as a highly progressive composer and arranger. Whether called upon as a sideman or as a leader of one of his own ensembles\, he shows that he is committed to further expanding the existing perimeters of jazz. \nHorton has had many long musical associations with leaders such as saxophonist Jane Ira Bloom (1983-2000) and pianist Andrew Hill. He was a member of Hill’s sextet from 1998 until 2003\, and appears on the group’s critically acclaimed cd\, Dusk (Palmetto 2000). He was also musical director and co-arranger for Hill’s big band\, and is featured on the cd\, A Beautiful Day(Palmetto 2002). \nRon Horton was born in 1960 in Bethesda\, Maryland\, and has been frequently called on as a sideman to perform and/or record with such artists as Lee Konitz\, Will Holshouser\, Rez Abbasi\, Phillip Johnston\, Andy Laster\, Mick Rossi\, Matt Wilson\, Bill Gerhardt\, Bill Mays\, Peggy Stern\, Allan Chase\, Andy Biskin\, Ted Nash\, Jon Gordon\, John McKenna\, Walter Thompson\, Diana Perez\, Billy Newman\, Mario Pavone\, Tina Marsh\, Maryanne DeProphetis\, Landon Knoblock\, Sam Bardfeld\, Maria Guida\, Abigail Riccards\, Angie Sanchez\, Kris Davis\, Darcy James Argue and many others.\n_________________________ \nSaxophonist Tim Armacost’s music is known for its balance of lyrical invention\, harmonic sophistication and exciting interplay among top-tier band mates. His improvisations are brimming with ideas\, but organized into a naturally flowing narrative\nTouring regularly around the world both as a sideman and a leader\, Armacost has worked with a phenomenal number of jazz greats\, including Al Foster\, Jimmy Cobb\, Kenny Barron\, Tom Harrell\, Billy Hart\, Victor Lewis\, Jeff “Tain” Watts\, Peter Erskine\, Ray Drummond\, Roy Hargrove\, Don Friedman and Randy Brecker. \nArmacost has recorded 14 critically acclaimed albums as a leader\, performed on more than 60 as a sideman\, and has recorded over 100 original songs and arrangements. His most recent leader outing\, Time Being\, featuring Jeff ‘Tain’ Watts and Bob Hurst received 4 stars in Downbeat magazine\, and has met with critical acclaim around the world.\n____________________ \nPianist/composer Peter Tomlinson holds a BFA from SUNY New Paltz. He hasalso studied with Barry Harris\, Warren Bernhardt and Mulgrew Miller. \nPeter has been an adjunct professor at Western Connecticut since 1990. He has also taught instrumental music and directed stage bands\, grade 3-12\, for the Paul Effman Music Service since 1992. In 2006 Peter became an associate professor of jazz piano at Vassar College. Other teaching experiences include jazz clinics and coaching high school All-State jazz bands. \nRecordings include albums with Grammy Award winner Jay Ungar\, “The Lover’s Waltz”\, and Mark Dziuba\, “Son of Cramdon”\, also featuring Adam Nussbaum and Jay Anderson. Of Peter’s own albums\, “Momentum” \, on the Compose label\, featured musicians include Dick Oatts\, Dave Douglas and Jimmy Cobb. Rhodes Spedale of Jazz Times Magazine says\, “ He’s talented\, lyrical\, imaginative\, and swinging- all the necessary attributes of a fine pianist.” Peter’s 2003 album\, “For Evans’ Sake” is a duo with guitarist Peter Einhorn. Jim Hall wrote “ It’s amazing… I loved it!” In 2007 he recorded with singer Bar Scott and bassist Lou Pappas\, “ A Little Dream”. Other musicians Peter has worked with include Ron Carter\, Hubert Laws\, Laurel Masse\, jazz tap legend Honi Coles and singer/songwriter Natalie Merchant. \nBorn in Flushing\, Queens\, NY\, drummer Peter O’Brien inherited his musical talents from his father\, drummer Bill O’Brien\, with whom he began his formal studies of the drums at age five. Peter toured the USA with organist Brother Jack McDuff and\, from 1984-1985\, performed all over the USA and Canada with the Edgar Winter Band. The band featured the legendary singer Jerry LaCroix (the original lead singer for White Trash) and performed the jazz-inflected fusion material from Edgar’s first ground-breaking record “Entrance\,” as well as his rock and blues music. During this time\, Peter also performed several dates with Roy Buchanan\, including a sold-out show at the Beacon Theatre with Johnny Winter\, Buddy Guy\, and Junior Wells. From 1986-1987\, he toured Europe with Mark McMillan. Peter moved to Woodstock\, NY in early 1988 and became a member of John Hall’s band Orleans. He was the subject of a feature article published in Modern Drummer’s Rhythm and News (Japan).
URL:https://www.lydias-cafe.com/event/mark-usvolk-sextet-2/
END:VEVENT
BEGIN:VEVENT
DTSTART;TZID=America/New_York:20240824T190000
DTEND;TZID=America/New_York:20240824T220000
DTSTAMP:20260421T112707
CREATED:20240408T152649Z
LAST-MODIFIED:20240723T230018Z
UID:7730-1724526000-1724536800@www.lydias-cafe.com
SUMMARY:Closed
DESCRIPTION:
URL:https://www.lydias-cafe.com/event/david-gilmore-quartet/
END:VEVENT
BEGIN:VEVENT
DTSTART;TZID=America/New_York:20240825T160000
DTEND;TZID=America/New_York:20240825T200000
DTSTAMP:20260421T112707
CREATED:20240723T230111Z
LAST-MODIFIED:20240814T194808Z
UID:7968-1724601600-1724616000@www.lydias-cafe.com
SUMMARY:Democratic Fundraiser
DESCRIPTION:Sunday\, August 25\, 4-8pm – Democratic Fundraiser Bar-b-q and Live Music\n\nOutdoor Event to raise funds for Democratic candidates. \nLive Painting to Music by Nancy Ostrovsky. Incredible line up of musicians – Jazz\, Acoustic/Americana\, New Age/Ethnic\, Latin\, R&B \nBring dishes to share and lawn chair/blanket \nMUSICIANS \nMarc Black \nDavid Lopato \nSteve Gorn \nDavid Gonzales \nEv Mann \nJimmy Madison \nNancy Donnelly \nChris Pasin \nJeff Siegel \nRich Syracuse \nDavid Winograd \nPeter Einhorn \nJohn Bruschini \nJerry Plotkin \nMark Usvolk \nDavid Heckendorn \nMarty Elkins \nLee Tomboulian \nMr. (Dorian) Randolph \nPeyton Pleninger \nPhil Nestor \nJohn Berenzy \nDale DeMarco
URL:https://www.lydias-cafe.com/event/democratic-fundraiser/
END:VEVENT
BEGIN:VEVENT
DTSTART;TZID=America/New_York:20240831T190000
DTEND;TZID=America/New_York:20240831T220000
DTSTAMP:20260421T112707
CREATED:20240408T152808Z
LAST-MODIFIED:20240812T192020Z
UID:7732-1725130800-1725141600@www.lydias-cafe.com
SUMMARY:Daniel Palladino Quartet
DESCRIPTION:Daniel Palladino is from Accord\, NY. He began playing drums at the age of 4 and has been performing since elementary school. Given his versatility on the instrument\, he’s played in groups ranging from punk to funk and all in between. Apart from his freelance work in various ensembles\, some may recognize him as a member of the band Pour La Terre. Daniel studied classical percussion at UCCC and is currently enrolled as a Jazz Performance major at SUNY New Paltz. \nThe Quartet mostly follows the Hard Bop tradition. This combo plays original compositions as well as a selection of various standards. \n> Max Barnes- Tenor Sax\n> Patrick Stokes- Piano\n> Mark Venuto- Bass\n> Daniel Palladino- Drums
URL:https://www.lydias-cafe.com/event/daniel-palladino-quartet/
END:VEVENT
END:VCALENDAR