BEGIN:VCALENDAR
VERSION:2.0
PRODID:-//Lydia&#039;s Cafe - ECPv6.15.12.2//NONSGML v1.0//EN
CALSCALE:GREGORIAN
METHOD:PUBLISH
X-WR-CALNAME:Lydia&#039;s Cafe
X-ORIGINAL-URL:https://www.lydias-cafe.com
X-WR-CALDESC:Events for Lydia&#039;s Cafe
REFRESH-INTERVAL;VALUE=DURATION:PT1H
X-Robots-Tag:noindex
X-PUBLISHED-TTL:PT1H
BEGIN:VTIMEZONE
TZID:America/New_York
BEGIN:DAYLIGHT
TZOFFSETFROM:-0500
TZOFFSETTO:-0400
TZNAME:EDT
DTSTART:20240310T070000
END:DAYLIGHT
BEGIN:STANDARD
TZOFFSETFROM:-0400
TZOFFSETTO:-0500
TZNAME:EST
DTSTART:20241103T060000
END:STANDARD
BEGIN:DAYLIGHT
TZOFFSETFROM:-0500
TZOFFSETTO:-0400
TZNAME:EDT
DTSTART:20250309T070000
END:DAYLIGHT
BEGIN:STANDARD
TZOFFSETFROM:-0400
TZOFFSETTO:-0500
TZNAME:EST
DTSTART:20251102T060000
END:STANDARD
BEGIN:DAYLIGHT
TZOFFSETFROM:-0500
TZOFFSETTO:-0400
TZNAME:EDT
DTSTART:20260308T070000
END:DAYLIGHT
BEGIN:STANDARD
TZOFFSETFROM:-0400
TZOFFSETTO:-0500
TZNAME:EST
DTSTART:20261101T060000
END:STANDARD
END:VTIMEZONE
BEGIN:VEVENT
DTSTART;TZID=America/New_York:20250503T190000
DTEND;TZID=America/New_York:20250503T220000
DTSTAMP:20260424T091258
CREATED:20241210T205429Z
LAST-MODIFIED:20250314T163330Z
UID:8392-1746298800-1746309600@www.lydias-cafe.com
SUMMARY:Rhythm Rising
DESCRIPTION:Rhythm Rising Quartet is a talented ensemble of Hudson Valley musicians\, led by Grammy-nominated percussionist Tomas Martin Lopez. Their music blends Afro-Caribbean Latin Jazz\, Bossa Nova\, and Samba\, with the vibraphone adding a smooth yet fiery drive. \nThe quartet includes Victor Catanzaro on Vibraphone\, Doug Correllus on Piano\, Ron Figueroa on Bass\, and Tomas Martin Lopez on Percussion. \nThe Rhythm Rising Quartet masterfully honors traditional Latin Jazz artists such as Cal Tjader\, Tito Puente\, and Mongo Santamaria. In addition to paying homage to these legends\, they also infuse their setlists with a blend of original compositions and beloved standards. Whether you’re a jazz enthusiast or simply appreciate soulful rhythms\, the Rhythm Rising Quartet promises an engaging musical experience. \nhttps://youtu.be/4ahplKTRrTk?si=9NgYy5aP3bNuaQcN
URL:https://www.lydias-cafe.com/event/rhythm-rising/
END:VEVENT
END:VCALENDAR