BEGIN:VCALENDAR
VERSION:2.0
PRODID:-//Lydia&#039;s Cafe - ECPv6.15.12.2//NONSGML v1.0//EN
CALSCALE:GREGORIAN
METHOD:PUBLISH
X-ORIGINAL-URL:https://www.lydias-cafe.com
X-WR-CALDESC:Events for Lydia&#039;s Cafe
REFRESH-INTERVAL;VALUE=DURATION:PT1H
X-Robots-Tag:noindex
X-PUBLISHED-TTL:PT1H
BEGIN:VTIMEZONE
TZID:America/New_York
BEGIN:DAYLIGHT
TZOFFSETFROM:-0500
TZOFFSETTO:-0400
TZNAME:EDT
DTSTART:20240310T070000
END:DAYLIGHT
BEGIN:STANDARD
TZOFFSETFROM:-0400
TZOFFSETTO:-0500
TZNAME:EST
DTSTART:20241103T060000
END:STANDARD
BEGIN:DAYLIGHT
TZOFFSETFROM:-0500
TZOFFSETTO:-0400
TZNAME:EDT
DTSTART:20250309T070000
END:DAYLIGHT
BEGIN:STANDARD
TZOFFSETFROM:-0400
TZOFFSETTO:-0500
TZNAME:EST
DTSTART:20251102T060000
END:STANDARD
BEGIN:DAYLIGHT
TZOFFSETFROM:-0500
TZOFFSETTO:-0400
TZNAME:EDT
DTSTART:20260308T070000
END:DAYLIGHT
BEGIN:STANDARD
TZOFFSETFROM:-0400
TZOFFSETTO:-0500
TZNAME:EST
DTSTART:20261101T060000
END:STANDARD
END:VTIMEZONE
BEGIN:VEVENT
DTSTART;TZID=America/New_York:20250405T190000
DTEND;TZID=America/New_York:20250405T220000
DTSTAMP:20260424T073415
CREATED:20241210T204516Z
LAST-MODIFIED:20250306T162400Z
UID:8388-1743879600-1743890400@www.lydias-cafe.com
SUMMARY:Jones Factor Lite
DESCRIPTION:A Power House of Jazz\, Soul & Serious Funk! \nThe Lite\, Sextet Version\, of The Popular 10 Piece the Jones Factor! Performing The Hottest Jazz With A Serious R&B\, Soul And Funk Edge. Same Full Flavor With Only 1/2 The Calories! \nFeaturing: \nJohn Fumasoli\, Trombone\, Composer\, Arranger\, Bandleader (Tony Bennett\, Gerry Mulligan\, Diana Ross\, John Tropea) \nBill Harris – Saxophones\, Flute (Paul Shaffer\, The Temptations\, Patti Labelle\, Sam Moore)\, \nJohn Martin-Trumpet\, Flugelhorn (Darlene Love\, Gino Vinelli\, Aretha Franklin\, The Nelson Riddle Orchestra) \nBill Pernice-Piano(Adam Nussbaum\, Cameron Brown\, Sheila Jordon) \nRich Zurkowski-Bass(Greg Wall\, David Morgan\, Martin Sexton\, Joe Louis Walker) \nKarl Latham-Drums(Dave Samuels\, Slide Hampton\, Dizzy Gillespie Latin Jazz Experience\, Ed Cherry) \n\nWatch the video “When He Calls” https://youtu.be/ZzHHVO_jDHw \nRecord Reviews: \nThe Time Is Now…a palette of colorful arrangements\, tasteful solos and engineered beautifully. Scott Wenzel Mosaic Records 4/14/22 \n“Even though the Jones Gang describe themselves as “the little big band”. For a “little” band\, they make a big sound!” Soul and Jazz and Funk\, 7/15/22 Bill Buckley UK \narrangements and orchestrations of quality that can remind us of the great ensembles (without the strings) of Oliver Nelson\, Lalo Schifrin or Issac Eyes. The album\, easy listening\, is rich with blues\, funk and jazz influences.”                                                                                            Thomas Houbron\, for Couleurs Jazz Radio 8/22
URL:https://www.lydias-cafe.com/event/john-fumasoli-septet/
END:VEVENT
END:VCALENDAR