BEGIN:VCALENDAR
VERSION:2.0
PRODID:-//Lydia&#039;s Cafe - ECPv6.15.12.2//NONSGML v1.0//EN
CALSCALE:GREGORIAN
METHOD:PUBLISH
X-ORIGINAL-URL:https://www.lydias-cafe.com
X-WR-CALDESC:Events for Lydia&#039;s Cafe
REFRESH-INTERVAL;VALUE=DURATION:PT1H
X-Robots-Tag:noindex
X-PUBLISHED-TTL:PT1H
BEGIN:VTIMEZONE
TZID:America/New_York
BEGIN:DAYLIGHT
TZOFFSETFROM:-0500
TZOFFSETTO:-0400
TZNAME:EDT
DTSTART:20230312T070000
END:DAYLIGHT
BEGIN:STANDARD
TZOFFSETFROM:-0400
TZOFFSETTO:-0500
TZNAME:EST
DTSTART:20231105T060000
END:STANDARD
BEGIN:DAYLIGHT
TZOFFSETFROM:-0500
TZOFFSETTO:-0400
TZNAME:EDT
DTSTART:20240310T070000
END:DAYLIGHT
BEGIN:STANDARD
TZOFFSETFROM:-0400
TZOFFSETTO:-0500
TZNAME:EST
DTSTART:20241103T060000
END:STANDARD
BEGIN:DAYLIGHT
TZOFFSETFROM:-0500
TZOFFSETTO:-0400
TZNAME:EDT
DTSTART:20250309T070000
END:DAYLIGHT
BEGIN:STANDARD
TZOFFSETFROM:-0400
TZOFFSETTO:-0500
TZNAME:EST
DTSTART:20251102T060000
END:STANDARD
END:VTIMEZONE
BEGIN:VEVENT
DTSTART;TZID=America/New_York:20241109T190000
DTEND;TZID=America/New_York:20241109T220000
DTSTAMP:20260422T022249
CREATED:20240916T150552Z
LAST-MODIFIED:20241022T152320Z
UID:8155-1731178800-1731189600@www.lydias-cafe.com
SUMMARY:Nancy Donnelly & Friends
DESCRIPTION:Nancy Donnelly – vocals \nPeter Tomlinson – keys \nMark Dziuba – guitar \nMark Usvolk – bass \nPhil Nestor – drums \n  \nA blend of R&B and jazz. Dancing!! \nNancy Donnelly is an exciting singer whose voice is nestled nicely somewhere in between jazz and soul• a rich\, warm and powerful sound” Peter Eldridge (New York Voices).\nNancy’s ability to blend a spectrum of musical styles is attributed to her wide array of musical influences and experiences. Nancy began training as a classical vocalist at a young age. Upon graduating from the “Crane School of Music”\, Nancy moved to Boston to further pursue her musical studies. While in Boston\, she had the opportunity to work with several Blues and R&B groups. Nancy realized her true passion for jazz when she performed with Russian saxophonist Igor Butman.\nNancy then moved to New York\, where she played in many of the cities famous jazz clubs\, such as the Blue Note\, The Village Gate\, Iridium\, and Birdland numerous jazz festivals including the Rochester International Jazz Festival and the Wall St. Jazz Festival. Nancy’s critically acclaimed debut CD features Peggy Stern Jay Anderson and Matt Wilson.\nNancy has two critically acclaimed CD’s available on iTunes and Spotify.
URL:https://www.lydias-cafe.com/event/nancy-donnelly-friends-2/
END:VEVENT
END:VCALENDAR