BEGIN:VCALENDAR
VERSION:2.0
PRODID:-//Lydia&#039;s Cafe - ECPv6.15.12.2//NONSGML v1.0//EN
CALSCALE:GREGORIAN
METHOD:PUBLISH
X-WR-CALNAME:Lydia&#039;s Cafe
X-ORIGINAL-URL:https://www.lydias-cafe.com
X-WR-CALDESC:Events for Lydia&#039;s Cafe
REFRESH-INTERVAL;VALUE=DURATION:PT1H
X-Robots-Tag:noindex
X-PUBLISHED-TTL:PT1H
BEGIN:VTIMEZONE
TZID:America/New_York
BEGIN:DAYLIGHT
TZOFFSETFROM:-0500
TZOFFSETTO:-0400
TZNAME:EDT
DTSTART:20230312T070000
END:DAYLIGHT
BEGIN:STANDARD
TZOFFSETFROM:-0400
TZOFFSETTO:-0500
TZNAME:EST
DTSTART:20231105T060000
END:STANDARD
BEGIN:DAYLIGHT
TZOFFSETFROM:-0500
TZOFFSETTO:-0400
TZNAME:EDT
DTSTART:20240310T070000
END:DAYLIGHT
BEGIN:STANDARD
TZOFFSETFROM:-0400
TZOFFSETTO:-0500
TZNAME:EST
DTSTART:20241103T060000
END:STANDARD
BEGIN:DAYLIGHT
TZOFFSETFROM:-0500
TZOFFSETTO:-0400
TZNAME:EDT
DTSTART:20250309T070000
END:DAYLIGHT
BEGIN:STANDARD
TZOFFSETFROM:-0400
TZOFFSETTO:-0500
TZNAME:EST
DTSTART:20251102T060000
END:STANDARD
END:VTIMEZONE
BEGIN:VEVENT
DTSTART;TZID=America/New_York:20241012T190000
DTEND;TZID=America/New_York:20241012T220000
DTSTAMP:20260421T170941
CREATED:20240723T230206Z
LAST-MODIFIED:20240930T180831Z
UID:7970-1728759600-1728770400@www.lydias-cafe.com
SUMMARY:Regusis/Horton Quartet
DESCRIPTION:Tim Regusis – piano \nRon Horton – trumpet/flugelhorn \nJay Anderson – bass \nRon Vincent – drums \n  \nTim Regusis is a Hudson Valley-based pianist who has been active in the jazz scene of the NYC region\, as well as in the fields of R&B\, Latin and various world musics for many years.\nHe has played and/or recorded with Patti Austin\, Ruben Blades\, David Byrne\, Celia Cruz\, Chuck Mangione\, Johnny Pacheco\, Daniel Ponce\, Rick Margitza\, Cindy Blackman\, Jeff Williams\, Akira Ohmori\, Najee\, Donna Summer\, Chaka Khan\, Jonathan Butler\, Ofra Haza and others. \nRon Horton has perform and/or record with such artists as Lee Konitz\, Will Holshouser\, Neil Kirkwood\, Rez Abbasi\, Phillip Johnston\, Andy Laster\, Mick Rossi\, Matt Wilson\, Bill Gerhardt\, Bill Mays\, Peggy Stern\, Allan Chase\, Andy Biskin\, Ted Nash\, Jon Gordon\, John McKenna\, Walter Thompson\, Diana Perez\, Billy Newman\, Mario Pavone\, Tina Marsh\, Maryanne DeProphetis\, Landon Knoblock\, Sam Bardfeld\, Maria Guida\, Abigail Riccards\, Angie Sanchez\, Kris Davis\, Darcy James Argue. \nBassist/composer Jay Anderson is among the most versatile and respected jazz artists performing today. He has performed/recorded with a wide range of jazz artists including Woody Herman\, Carmen McRae\, Michael Brecker\, Paul Bley\, Bob Mintzer\, John Abercrombie\, Dave Liebman\, Joe Sample\, Maria Schneider\, Stanley Cowell\, John Scofield\, Lee Konitz\, Vic Juris\, Red Rodney\, Ira Sullivan\, Mike Stern\, Anat Cohen\, Toots Thielemans\, Kenny Wheeler\, Jay Clayton and non-jazz artists like Oswaldo Golijov\, Dawn Upshaw\, The Australian Chamber Orchestra\, Robert Spano (Atlanta Symphony)\, Michael Franks\, David Bowie\, Frank Zappa\, Tom Waits\, Terre Roche\, Chaka Khan\, Michel Legrand\, Allen Ginsberg\, and Celine Dion. He has been featured on over 400 recordings\, seven of which have received the Grammy Award. His original recordings “NEXT EXIT” (DMP)\, “LOCAL COLOR” (DMP)\, and “DEEPSCAPE” (Steeplechase) have received critical acclaim both in the U.S. and abroad. Jay has conducted clinics around the world and is a Professor of Jazz Bass Studies at the Manhattan School of Music in New York City and New Jersey City University. \nDrummer Ron Vincent was a member of the Gerry Mulligan Quartet and the Re-Birth of the Cool Tentet from 1989 until Mr. Mulligan’s passing in 1996. He recorded four CDs with Mr. Mulligan and has also recorded with Phil Woods\, Lee Konitz\, Randy Brecker\, Bob Brookmeyer\, Bill Charlap\, John Lewis and Slide Hampton to name a few.\nRon has appeared with such notables as Art Farmer\, Bill Crow\, Rob McConnell\, Rufus Reid and Dr. Billy Taylor. Presently Ron is a member of the Bill Mays trio\nAs a jazz artist/educator for Sabian Cymbals\, Ron presented workshops at over 100 Colleges and Universities and has been on the faculty of the Jamie Aebersold Jazz Camps and the Stanford Jazz Camp (CA). In 1996 Ron received a National Endowment for the Arts grant for jazz performance.
URL:https://www.lydias-cafe.com/event/tim-regusis-trio/
END:VEVENT
END:VCALENDAR