BEGIN:VCALENDAR
VERSION:2.0
PRODID:-//Lydia&#039;s Cafe - ECPv6.15.12.2//NONSGML v1.0//EN
CALSCALE:GREGORIAN
METHOD:PUBLISH
X-ORIGINAL-URL:https://www.lydias-cafe.com
X-WR-CALDESC:Events for Lydia&#039;s Cafe
REFRESH-INTERVAL;VALUE=DURATION:PT1H
X-Robots-Tag:noindex
X-PUBLISHED-TTL:PT1H
BEGIN:VTIMEZONE
TZID:America/New_York
BEGIN:DAYLIGHT
TZOFFSETFROM:-0500
TZOFFSETTO:-0400
TZNAME:EDT
DTSTART:20230312T070000
END:DAYLIGHT
BEGIN:STANDARD
TZOFFSETFROM:-0400
TZOFFSETTO:-0500
TZNAME:EST
DTSTART:20231105T060000
END:STANDARD
BEGIN:DAYLIGHT
TZOFFSETFROM:-0500
TZOFFSETTO:-0400
TZNAME:EDT
DTSTART:20240310T070000
END:DAYLIGHT
BEGIN:STANDARD
TZOFFSETFROM:-0400
TZOFFSETTO:-0500
TZNAME:EST
DTSTART:20241103T060000
END:STANDARD
BEGIN:DAYLIGHT
TZOFFSETFROM:-0500
TZOFFSETTO:-0400
TZNAME:EDT
DTSTART:20250309T070000
END:DAYLIGHT
BEGIN:STANDARD
TZOFFSETFROM:-0400
TZOFFSETTO:-0500
TZNAME:EST
DTSTART:20251102T060000
END:STANDARD
END:VTIMEZONE
BEGIN:VEVENT
DTSTART;TZID=America/New_York:20240727T190000
DTEND;TZID=America/New_York:20240727T220000
DTSTAMP:20260421T145144
CREATED:20240326T143736Z
LAST-MODIFIED:20240708T182456Z
UID:7722-1722106800-1722117600@www.lydias-cafe.com
SUMMARY:The Saints of Swing featuring Miss Rene Bailey
DESCRIPTION:The Saints of Swing Featuring Miss Rene Bailey \nAn extraordinary collection of musicians providing an ultimate experience in art and entertainment\, the SAINTS OF SWING present an eclectic selection of foot-tappin’ Swing favorites\, down-home New Orleans Dixieland Jazz\, Motown/R&B\, Ballroom\, Latin\, and even Gospel and Klezmer gems guaranteed to get your guests partying and lit up!… with a smile. This is a celebration of American music from its roots\, with modern influences. \nNot only will the SAINTS OF SWING regale you with terrific dance music…they will also put on a fun-filled show featuring \nMiss Rene Bailey\, featured vocalist\nDavid Winograd\, bass/tuba\nDale DeMarco\, sax/clarinet/vocals\nPeter Tomlinson\, piano\nLarry Balestra\, drums\nBarry Bryson\, trumpet/vocals\nKen Foy\, trombone\, vocals\n\n\n\nRene Bailey uses her vocal clarity to sell the blues with true feeling. Combining gospel\, jazz\, and rhythm/blues\, she has performed with such greats as Louis Armstrong\, B.B. King\, Aretha Franklin\, Dave Brubeck\, Ruth Brown\, Paul Anka\, and many more… \nRene Bailey started singing gospel as a young girl in her Georgia church. Moving north to Connecticut\, she hit the New York City scene where she sang blues and jazz. The transition from gospel to nightclub work came naturally\, and Rene became the featured vocalist at the Peg Leg Bates Country Club for over 20 years. \nIn church it’s called “shouting” – the gospel dance. “They get up and shout and shout and shout.” In a nightclub when Rene Bailey sings and “it” hits\, you holler\, “Yes\, indeed!”
URL:https://www.lydias-cafe.com/event/the-saints-of-swing-featuring-miss-rene-bailey-2/
END:VEVENT
END:VCALENDAR