BEGIN:VCALENDAR
VERSION:2.0
PRODID:-//Lydia&#039;s Cafe - ECPv6.15.12.2//NONSGML v1.0//EN
CALSCALE:GREGORIAN
METHOD:PUBLISH
X-WR-CALNAME:Lydia&#039;s Cafe
X-ORIGINAL-URL:https://www.lydias-cafe.com
X-WR-CALDESC:Events for Lydia&#039;s Cafe
REFRESH-INTERVAL;VALUE=DURATION:PT1H
X-Robots-Tag:noindex
X-PUBLISHED-TTL:PT1H
BEGIN:VTIMEZONE
TZID:America/New_York
BEGIN:DAYLIGHT
TZOFFSETFROM:-0500
TZOFFSETTO:-0400
TZNAME:EDT
DTSTART:20220313T070000
END:DAYLIGHT
BEGIN:STANDARD
TZOFFSETFROM:-0400
TZOFFSETTO:-0500
TZNAME:EST
DTSTART:20221106T060000
END:STANDARD
BEGIN:DAYLIGHT
TZOFFSETFROM:-0500
TZOFFSETTO:-0400
TZNAME:EDT
DTSTART:20230312T070000
END:DAYLIGHT
BEGIN:STANDARD
TZOFFSETFROM:-0400
TZOFFSETTO:-0500
TZNAME:EST
DTSTART:20231105T060000
END:STANDARD
BEGIN:DAYLIGHT
TZOFFSETFROM:-0500
TZOFFSETTO:-0400
TZNAME:EDT
DTSTART:20240310T070000
END:DAYLIGHT
BEGIN:STANDARD
TZOFFSETFROM:-0400
TZOFFSETTO:-0500
TZNAME:EST
DTSTART:20241103T060000
END:STANDARD
END:VTIMEZONE
BEGIN:VEVENT
DTSTART;TZID=America/New_York:20231104T190000
DTEND;TZID=America/New_York:20231104T220000
DTSTAMP:20260424T043632
CREATED:20231004T152055Z
LAST-MODIFIED:20231023T143612Z
UID:7385-1699124400-1699135200@www.lydias-cafe.com
SUMMARY:Nico Soffiato Trio
DESCRIPTION:Nico Soffiato -guitar\nMartin Keith-bass\nDean Sharp-drums\n\nNico Soffiato Trio presents a mix of originals\, jazz standards\, tunes by contemporary jazz composers and some other tunes by artists (Hendrix\, Bjork\, Gillian Welch and more).  Nico is joined by Martin Keith on bass and Dean Sharp on drums (who played with Moby\, Brad Meldhau\, Red Hot Chili Peppers\, Joe Lovano\, to mention a few).\n\n\nNico Soffiato\, Italian guitarist\, composer and educator\, currently lives in Brooklyn\, NY.  After receiving his Master’s degree in philosophy with a thesis on the ontology of music\, he moved to Boston. There he attended Berklee College of Music\, thanks to a Best Entering Talent Students scholarship\, and graduated magna cum laude. At Berklee he studied performance and composition with David Tronzo\, Jon Damian\, Hal Crook\, Ed Tomassi and Jeff Galindo to mention a few. Nico was also selected to be part of an all-guitar ensemble whose members included notable alumni like Bill Frisell\, Kurt Rosenwinkel\, Mike Stern and Wolfgang Muthspiel. \nIn New York\, aside from being the front man of OST Quartet\, he leads the improvised music group Paradigm Refrain.  The group has a diverse cast and guests have included: David Tronzo\, Darius Jones\, Jesse Stacken\, Jason Nazary\, Nate Wooley\, Sunny Kim\, Marco Cappelli\, Zeno de Rossi\, Fraser Campbell\, Marco Buccelli\, Noah Kaplan\, and many others.
URL:https://www.lydias-cafe.com/event/nico-soffiato-trio/
END:VEVENT
END:VCALENDAR